BEGIN:VCALENDAR
VERSION:2.0
PRODID:-//本厚木のコーヒー豆専門店 - いる１ばん｜カフェスペースあり - ECPv6.6.2//NONSGML v1.0//EN
CALSCALE:GREGORIAN
METHOD:PUBLISH
X-WR-CALNAME:本厚木のコーヒー豆専門店 - いる１ばん｜カフェスペースあり
X-ORIGINAL-URL:https://iru1ban.com
X-WR-CALDESC:本厚木のコーヒー豆専門店 - いる１ばん｜カフェスペースあり のイベント
REFRESH-INTERVAL;VALUE=DURATION:PT1H
X-Robots-Tag:noindex
X-PUBLISHED-TTL:PT1H
BEGIN:VTIMEZONE
TZID:Asia/Tokyo
BEGIN:STANDARD
TZOFFSETFROM:+0900
TZOFFSETTO:+0900
TZNAME:JST
DTSTART:20240101T000000
END:STANDARD
END:VTIMEZONE
BEGIN:VEVENT
DTSTART;VALUE=DATE:20250831
DTEND;VALUE=DATE:20250902
DTSTAMP:20260421T123051
CREATED:20241227T042758Z
LAST-MODIFIED:20241227T042758Z
UID:385-1756598400-1756771199@iru1ban.com
SUMMARY:定休日
DESCRIPTION:
URL:https://iru1ban.com/event/%e5%ae%9a%e4%bc%91%e6%97%a5-40/
CATEGORIES:定休日
END:VEVENT
BEGIN:VEVENT
DTSTART;VALUE=DATE:20250821
DTEND;VALUE=DATE:20250822
DTSTAMP:20260421T123051
CREATED:20241227T042732Z
LAST-MODIFIED:20241227T042732Z
UID:383-1755734400-1755820799@iru1ban.com
SUMMARY:定休日
DESCRIPTION:
URL:https://iru1ban.com/event/%e5%ae%9a%e4%bc%91%e6%97%a5-38/
CATEGORIES:定休日
END:VEVENT
BEGIN:VEVENT
DTSTART;VALUE=DATE:20250811
DTEND;VALUE=DATE:20250812
DTSTAMP:20260421T123051
CREATED:20241227T042643Z
LAST-MODIFIED:20241227T042643Z
UID:381-1754870400-1754956799@iru1ban.com
SUMMARY:定休日
DESCRIPTION:
URL:https://iru1ban.com/event/%e5%ae%9a%e4%bc%91%e6%97%a5-39/
CATEGORIES:定休日
END:VEVENT
BEGIN:VEVENT
DTSTART;VALUE=DATE:20250731
DTEND;VALUE=DATE:20250802
DTSTAMP:20260421T123051
CREATED:20241227T042533Z
LAST-MODIFIED:20241227T042533Z
UID:377-1753920000-1754092799@iru1ban.com
SUMMARY:定休日
DESCRIPTION:
URL:https://iru1ban.com/event/%e5%ae%9a%e4%bc%91%e6%97%a5-37/
CATEGORIES:定休日
END:VEVENT
BEGIN:VEVENT
DTSTART;VALUE=DATE:20250721
DTEND;VALUE=DATE:20250722
DTSTAMP:20260421T123051
CREATED:20241227T042457Z
LAST-MODIFIED:20241227T042457Z
UID:375-1753056000-1753142399@iru1ban.com
SUMMARY:定休日
DESCRIPTION:
URL:https://iru1ban.com/event/%e5%ae%9a%e4%bc%91%e6%97%a5-36/
CATEGORIES:定休日
END:VEVENT
BEGIN:VEVENT
DTSTART;VALUE=DATE:20250711
DTEND;VALUE=DATE:20250712
DTSTAMP:20260421T123051
CREATED:20241227T041930Z
LAST-MODIFIED:20241227T041930Z
UID:373-1752192000-1752278399@iru1ban.com
SUMMARY:定休日
DESCRIPTION:
URL:https://iru1ban.com/event/%e5%ae%9a%e4%bc%91%e6%97%a5-32/
CATEGORIES:定休日
END:VEVENT
BEGIN:VEVENT
DTSTART;VALUE=DATE:20250701
DTEND;VALUE=DATE:20250702
DTSTAMP:20260421T123051
CREATED:20241227T041742Z
LAST-MODIFIED:20241227T041742Z
UID:370-1751328000-1751414399@iru1ban.com
SUMMARY:定休日
DESCRIPTION:
URL:https://iru1ban.com/event/%e5%ae%9a%e4%bc%91%e6%97%a5-35/
CATEGORIES:定休日
END:VEVENT
BEGIN:VEVENT
DTSTART;VALUE=DATE:20250621
DTEND;VALUE=DATE:20250622
DTSTAMP:20260421T123051
CREATED:20241227T041716Z
LAST-MODIFIED:20241227T041716Z
UID:368-1750464000-1750550399@iru1ban.com
SUMMARY:定休日
DESCRIPTION:
URL:https://iru1ban.com/event/%e5%ae%9a%e4%bc%91%e6%97%a5-34/
CATEGORIES:定休日
END:VEVENT
BEGIN:VEVENT
DTSTART;VALUE=DATE:20250611
DTEND;VALUE=DATE:20250612
DTSTAMP:20260421T123051
CREATED:20241227T041647Z
LAST-MODIFIED:20241227T041647Z
UID:366-1749600000-1749686399@iru1ban.com
SUMMARY:定休日
DESCRIPTION:
URL:https://iru1ban.com/event/%e5%ae%9a%e4%bc%91%e6%97%a5-33/
CATEGORIES:定休日
END:VEVENT
BEGIN:VEVENT
DTSTART;VALUE=DATE:20250531
DTEND;VALUE=DATE:20250602
DTSTAMP:20260421T123051
CREATED:20241227T041557Z
LAST-MODIFIED:20241227T041557Z
UID:362-1748649600-1748822399@iru1ban.com
SUMMARY:定休日
DESCRIPTION:
URL:https://iru1ban.com/event/%e5%ae%9a%e4%bc%91%e6%97%a5-31/
CATEGORIES:定休日
END:VEVENT
BEGIN:VEVENT
DTSTART;VALUE=DATE:20250521
DTEND;VALUE=DATE:20250522
DTSTAMP:20260421T123051
CREATED:20241227T041524Z
LAST-MODIFIED:20241227T041524Z
UID:360-1747785600-1747871999@iru1ban.com
SUMMARY:定休日
DESCRIPTION:
URL:https://iru1ban.com/event/%e5%ae%9a%e4%bc%91%e6%97%a5-30/
CATEGORIES:定休日
END:VEVENT
BEGIN:VEVENT
DTSTART;VALUE=DATE:20250511
DTEND;VALUE=DATE:20250512
DTSTAMP:20260421T123051
CREATED:20241227T041459Z
LAST-MODIFIED:20241227T041459Z
UID:358-1746921600-1747007999@iru1ban.com
SUMMARY:定休日
DESCRIPTION:
URL:https://iru1ban.com/event/%e5%ae%9a%e4%bc%91%e6%97%a5-29/
CATEGORIES:定休日
END:VEVENT
BEGIN:VEVENT
DTSTART;VALUE=DATE:20250501
DTEND;VALUE=DATE:20250502
DTSTAMP:20260421T123051
CREATED:20241227T041223Z
LAST-MODIFIED:20241227T041223Z
UID:356-1746057600-1746143999@iru1ban.com
SUMMARY:定休日
DESCRIPTION:
URL:https://iru1ban.com/event/%e5%ae%9a%e4%bc%91%e6%97%a5-28/
CATEGORIES:定休日
END:VEVENT
BEGIN:VEVENT
DTSTART;VALUE=DATE:20250421
DTEND;VALUE=DATE:20250422
DTSTAMP:20260421T123051
CREATED:20241227T041124Z
LAST-MODIFIED:20241227T041124Z
UID:354-1745193600-1745279999@iru1ban.com
SUMMARY:定休日
DESCRIPTION:
URL:https://iru1ban.com/event/%e5%ae%9a%e4%bc%91%e6%97%a5-27/
CATEGORIES:定休日
END:VEVENT
BEGIN:VEVENT
DTSTART;VALUE=DATE:20250411
DTEND;VALUE=DATE:20250412
DTSTAMP:20260421T123051
CREATED:20241227T041058Z
LAST-MODIFIED:20241227T041058Z
UID:352-1744329600-1744415999@iru1ban.com
SUMMARY:定休日
DESCRIPTION:
URL:https://iru1ban.com/event/%e5%ae%9a%e4%bc%91%e6%97%a5-26/
CATEGORIES:定休日
END:VEVENT
BEGIN:VEVENT
DTSTART;VALUE=DATE:20250331
DTEND;VALUE=DATE:20250402
DTSTAMP:20260421T123051
CREATED:20241227T041022Z
LAST-MODIFIED:20241227T041022Z
UID:350-1743379200-1743551999@iru1ban.com
SUMMARY:定休日
DESCRIPTION:
URL:https://iru1ban.com/event/%e5%ae%9a%e4%bc%91%e6%97%a5-25/
CATEGORIES:定休日
END:VEVENT
BEGIN:VEVENT
DTSTART;VALUE=DATE:20250321
DTEND;VALUE=DATE:20250322
DTSTAMP:20260421T123051
CREATED:20241227T040941Z
LAST-MODIFIED:20241227T040941Z
UID:348-1742515200-1742601599@iru1ban.com
SUMMARY:定休日
DESCRIPTION:
URL:https://iru1ban.com/event/%e5%ae%9a%e4%bc%91%e6%97%a5-24/
CATEGORIES:定休日
END:VEVENT
BEGIN:VEVENT
DTSTART;VALUE=DATE:20250311
DTEND;VALUE=DATE:20250312
DTSTAMP:20260421T123051
CREATED:20241227T040849Z
LAST-MODIFIED:20241227T040849Z
UID:346-1741651200-1741737599@iru1ban.com
SUMMARY:定休日
DESCRIPTION:
URL:https://iru1ban.com/event/%e5%ae%9a%e4%bc%91%e6%97%a5-23/
CATEGORIES:定休日
END:VEVENT
BEGIN:VEVENT
DTSTART;VALUE=DATE:20250301
DTEND;VALUE=DATE:20250302
DTSTAMP:20260421T123051
CREATED:20241227T040800Z
LAST-MODIFIED:20241227T040800Z
UID:344-1740787200-1740873599@iru1ban.com
SUMMARY:定休日
DESCRIPTION:
URL:https://iru1ban.com/event/%e5%ae%9a%e4%bc%91%e6%97%a5-22/
CATEGORIES:定休日
END:VEVENT
BEGIN:VEVENT
DTSTART;VALUE=DATE:20250221
DTEND;VALUE=DATE:20250222
DTSTAMP:20260421T123051
CREATED:20241227T035107Z
LAST-MODIFIED:20241227T035107Z
UID:342-1740096000-1740182399@iru1ban.com
SUMMARY:定休日
DESCRIPTION:
URL:https://iru1ban.com/event/%e5%ae%9a%e4%bc%91%e6%97%a5-21/
CATEGORIES:定休日
END:VEVENT
BEGIN:VEVENT
DTSTART;VALUE=DATE:20250211
DTEND;VALUE=DATE:20250212
DTSTAMP:20260421T123051
CREATED:20241227T035040Z
LAST-MODIFIED:20241227T035040Z
UID:340-1739232000-1739318399@iru1ban.com
SUMMARY:定休日
DESCRIPTION:
URL:https://iru1ban.com/event/%e5%ae%9a%e4%bc%91%e6%97%a5-20/
CATEGORIES:定休日
END:VEVENT
BEGIN:VEVENT
DTSTART;VALUE=DATE:20250131
DTEND;VALUE=DATE:20250202
DTSTAMP:20260421T123051
CREATED:20241227T035000Z
LAST-MODIFIED:20241227T035000Z
UID:338-1738281600-1738454399@iru1ban.com
SUMMARY:定休日
DESCRIPTION:
URL:https://iru1ban.com/event/%e5%ae%9a%e4%bc%91%e6%97%a5-19/
CATEGORIES:定休日
END:VEVENT
BEGIN:VEVENT
DTSTART;VALUE=DATE:20250121
DTEND;VALUE=DATE:20250122
DTSTAMP:20260421T123051
CREATED:20241227T034615Z
LAST-MODIFIED:20241227T034830Z
UID:334-1737417600-1737503999@iru1ban.com
SUMMARY:定休日
DESCRIPTION:
URL:https://iru1ban.com/event/%e5%ae%9a%e4%bc%91%e6%97%a5-17/
CATEGORIES:定休日
END:VEVENT
BEGIN:VEVENT
DTSTART;VALUE=DATE:20250111
DTEND;VALUE=DATE:20250112
DTSTAMP:20260421T123051
CREATED:20241227T034908Z
LAST-MODIFIED:20241227T034908Z
UID:336-1736553600-1736639999@iru1ban.com
SUMMARY:定休日
DESCRIPTION:
URL:https://iru1ban.com/event/%e5%ae%9a%e4%bc%91%e6%97%a5-18/
CATEGORIES:定休日
END:VEVENT
BEGIN:VEVENT
DTSTART;VALUE=DATE:20250101
DTEND;VALUE=DATE:20250105
DTSTAMP:20260421T123051
CREATED:20241227T034312Z
LAST-MODIFIED:20241227T034312Z
UID:332-1735689600-1736035199@iru1ban.com
SUMMARY:定休日
DESCRIPTION:
URL:https://iru1ban.com/event/%e5%ae%9a%e4%bc%91%e6%97%a5-16/
CATEGORIES:定休日
END:VEVENT
BEGIN:VEVENT
DTSTART;VALUE=DATE:20241231
DTEND;VALUE=DATE:20250101
DTSTAMP:20260421T123051
CREATED:20240825T083854Z
LAST-MODIFIED:20240825T083854Z
UID:224-1735603200-1735689599@iru1ban.com
SUMMARY:定休日
DESCRIPTION:
URL:https://iru1ban.com/event/%e5%ae%9a%e4%bc%91%e6%97%a5-15/
CATEGORIES:定休日
END:VEVENT
BEGIN:VEVENT
DTSTART;VALUE=DATE:20241221
DTEND;VALUE=DATE:20241222
DTSTAMP:20260421T123051
CREATED:20240825T083831Z
LAST-MODIFIED:20240825T083831Z
UID:222-1734739200-1734825599@iru1ban.com
SUMMARY:定休日
DESCRIPTION:
URL:https://iru1ban.com/event/%e5%ae%9a%e4%bc%91%e6%97%a5-14/
CATEGORIES:定休日
END:VEVENT
BEGIN:VEVENT
DTSTART;VALUE=DATE:20241211
DTEND;VALUE=DATE:20241212
DTSTAMP:20260421T123051
CREATED:20240825T083757Z
LAST-MODIFIED:20240825T083757Z
UID:220-1733875200-1733961599@iru1ban.com
SUMMARY:定休日
DESCRIPTION:
URL:https://iru1ban.com/event/%e5%ae%9a%e4%bc%91%e6%97%a5-13/
CATEGORIES:定休日
END:VEVENT
BEGIN:VEVENT
DTSTART;VALUE=DATE:20241201
DTEND;VALUE=DATE:20241202
DTSTAMP:20260421T123051
CREATED:20240825T083725Z
LAST-MODIFIED:20240825T083725Z
UID:218-1733011200-1733097599@iru1ban.com
SUMMARY:定休日
DESCRIPTION:
URL:https://iru1ban.com/event/%e5%ae%9a%e4%bc%91%e6%97%a5-12/
CATEGORIES:定休日
END:VEVENT
BEGIN:VEVENT
DTSTART;VALUE=DATE:20241121
DTEND;VALUE=DATE:20241122
DTSTAMP:20260421T123051
CREATED:20240825T083659Z
LAST-MODIFIED:20240825T083659Z
UID:216-1732147200-1732233599@iru1ban.com
SUMMARY:定休日
DESCRIPTION:
URL:https://iru1ban.com/event/%e5%ae%9a%e4%bc%91%e6%97%a5-11/
CATEGORIES:定休日
END:VEVENT
END:VCALENDAR